BEGIN:VCALENDAR
VERSION:2.0
PRODID:-//Verra - ECPv6.15.10//NONSGML v1.0//EN
CALSCALE:GREGORIAN
METHOD:PUBLISH
X-WR-CALNAME:Verra
X-ORIGINAL-URL:https://verra.org
X-WR-CALDESC:Events for Verra
REFRESH-INTERVAL;VALUE=DURATION:PT1H
X-Robots-Tag:noindex
X-PUBLISHED-TTL:PT1H
BEGIN:VTIMEZONE
TZID:America/New_York
BEGIN:DAYLIGHT
TZOFFSETFROM:-0500
TZOFFSETTO:-0400
TZNAME:EDT
DTSTART:20240310T070000
END:DAYLIGHT
BEGIN:STANDARD
TZOFFSETFROM:-0400
TZOFFSETTO:-0500
TZNAME:EST
DTSTART:20241103T060000
END:STANDARD
BEGIN:DAYLIGHT
TZOFFSETFROM:-0500
TZOFFSETTO:-0400
TZNAME:EDT
DTSTART:20250309T070000
END:DAYLIGHT
BEGIN:STANDARD
TZOFFSETFROM:-0400
TZOFFSETTO:-0500
TZNAME:EST
DTSTART:20251102T060000
END:STANDARD
BEGIN:DAYLIGHT
TZOFFSETFROM:-0500
TZOFFSETTO:-0400
TZNAME:EDT
DTSTART:20260308T070000
END:DAYLIGHT
BEGIN:STANDARD
TZOFFSETFROM:-0400
TZOFFSETTO:-0500
TZNAME:EST
DTSTART:20261101T060000
END:STANDARD
BEGIN:DAYLIGHT
TZOFFSETFROM:-0500
TZOFFSETTO:-0400
TZNAME:EDT
DTSTART:20270314T070000
END:DAYLIGHT
BEGIN:STANDARD
TZOFFSETFROM:-0400
TZOFFSETTO:-0500
TZNAME:EST
DTSTART:20271107T060000
END:STANDARD
END:VTIMEZONE
BEGIN:VEVENT
DTSTART;TZID=America/New_York:20260415T090000
DTEND;TZID=America/New_York:20260415T100000
DTSTAMP:20260423T123624
CREATED:20260326T142402Z
LAST-MODIFIED:20260326T142402Z
UID:10000097-1776243600-1776247200@verra.org
SUMMARY:From Forest to Finance: Building High-Integrity ARR Projects with dMRV
DESCRIPTION:Verra staff speaking: Spencer Plumb\, Senior Manager\, Forest Carbon Innovations Manager \nIn this webinar\, hosted by Sylvera\, learn how satellite-derived biomass data is transforming ARR projects from site selection to verified credits. This panel brings together a registry\, project developer\, and investor to show how VM0047 workflows and digital MRV boost confidence\, streamline timelines\, and strengthen quality signals for buyers and verification bodies. \nLearn more and register here
URL:https://verra.org/events/from-forest-to-finance-building-high-integrity-arr-projects-with-dmrv/
LOCATION:Online
CATEGORIES:Virtual
ATTACH;FMTTYPE=image/webp:https://verra.org/wp-content/uploads/2026/02/img-green-scaled-1.webp
END:VEVENT
BEGIN:VEVENT
DTSTART;TZID=America/New_York:20260331T040000
DTEND;TZID=America/New_York:20260331T050000
DTSTAMP:20260423T123624
CREATED:20260330T190424Z
LAST-MODIFIED:20260330T190424Z
UID:10000098-1774929600-1774933200@verra.org
SUMMARY:Trader policy for plastics circularity in ASEAN
DESCRIPTION:Verra staff speaking: Vigil Yu\, Senior Program Officer \nHosted by the World Economic Forum’s Global Plastic Action Partnership (GPAP) and UN-ESCAP\, this webinar explores how trade and investment policies can accelerate the transition to a circular plastics economy in ASEAN. Hear from experts as they share key insights from new regional analysis\, practical approaches to leveraging trade levers\, and what this means for policymakers\, industry\, and investors. The session will also include a demonstration of TINA\, offering a data-driven perspective on plastics trade across the region. \nLearn more and register here
URL:https://verra.org/events/trader-policy-for-plastics-circularity-in-asean/
LOCATION:Online
CATEGORIES:Virtual
ATTACH;FMTTYPE=image/jpeg:https://verra.org/wp-content/uploads/2026/03/nick-fewings-2lJGRIY5P0-unsplash-scaled.jpg
END:VEVENT
BEGIN:VEVENT
DTSTART;TZID=America/New_York:20260224T100000
DTEND;TZID=America/New_York:20260224T110000
DTSTAMP:20260423T123624
CREATED:20260203T145239Z
LAST-MODIFIED:20260209T201821Z
UID:10000078-1771927200-1771930800@verra.org
SUMMARY:ABACUS Label: Deep Dive
DESCRIPTION:In this webinar Verra will offer an in-depth exploration of the ABACUS label. Launched in 2024\, in partnership with an Amazon-led working group\, the ABACUS label identifies carbon credits that are generated under Verra’s Afforestation\, Reforestation\, and Revegetation (ARR) methodology (VM0047) and that exceed the methodology’s requirements.\nIn this session\, the Verra Team will cover the following:\n– Label eligibility conditions\, and validation and verification requirements\n– Insights from applying the label\n– Next steps for the further development of the label\n– Other commonly asked questions \nThe Verra team will be joined by a representative from Amazon who will share insights on market demand and pricing dynamics.
URL:https://verra.org/events/abacus-label-deep-dive/
LOCATION:Online
CATEGORIES:Virtual
ATTACH;FMTTYPE=image/jpeg:https://verra.org/wp-content/uploads/2023/11/Mindanao-Tree-Planting-Program-for-our-Climate-and-Communities-MinTrees-2412-Copyright-Keneco-Mindanao-Philippines-Mount-Hamiguitan-forest-scaled.jpg
END:VEVENT
BEGIN:VEVENT
DTSTART;TZID=America/New_York:20260211T110000
DTEND;TZID=America/New_York:20260211T120000
DTSTAMP:20260423T123624
CREATED:20260114T170056Z
LAST-MODIFIED:20260209T202813Z
UID:10000067-1770807600-1770811200@verra.org
SUMMARY:Diving into the ABACUS Label: Requirements\, First Lessons Learned\, and Future Enhancements
DESCRIPTION:Join us for an in‑depth session exploring the ABACUS label— what are its requirements\, what has been happening since launch\, and where it’s headed next. Drawing on stakeholder input\, including insights from upstream capacity‑building efforts\, this webinar will provide a detailed view of the label’s structure\, first lessons learned\, and emerging demand signals. \nIn this webinar\, we will: \n\nWalk through the label’s eligibility conditions and the validation and verification requirements using a practical checklist.\nAddress some of the most common questions we’ve received.\nHighlight friction points identified so far in the ABACUS adoption curve\nInvite Amazon to share reflections on demand\, pricing dynamics\, and market forecasting.\nPreview what’s coming next for the ABACUS ecosystem\, including the update of VMD0054 with the cross-commodity leakage option and the forthcoming VM0047 improvements.\n\nThis session is designed to equip participants with a clearer understanding of the ABACUS label and as a look at its adoption and evolution.
URL:https://verra.org/events/diving-into-the-abacus-label-requirements-first-lessons-learned-and-future-enhancements/
LOCATION:Online
CATEGORIES:Virtual
ATTACH;FMTTYPE=image/jpeg:https://verra.org/wp-content/uploads/2024/09/olga-subach-sgc21uXFxtM-unsplash-scaled.jpg
END:VEVENT
BEGIN:VEVENT
DTSTART;TZID=America/New_York:20260210T110000
DTEND;TZID=America/New_York:20260210T120000
DTSTAMP:20260423T123624
CREATED:20260114T165606Z
LAST-MODIFIED:20260223T220838Z
UID:10000066-1770721200-1770724800@verra.org
SUMMARY:Overview of VMD0054 Estimating Leakage from the Displacement of Agricultural Activities
DESCRIPTION:Verra will provide an overview of VMD0054 Estimating Leakage from the Displacement of Agricultural Activities\, v1.1. VMD0054 provides a standardized approach for estimating leakage\, which occurs in the form of greenhouse gas emissions outside of a project boundary when project activities displace agricultural or fuelwood production. Version 1.1 constitutes a minor revision to version 1.0 of the module\, and the webinar will focus on highlighting the changes between the two versions.
URL:https://verra.org/events/overview-of-vmd0054-estimating-leakage-from-the-displacement-of-agricultural-activities/
LOCATION:Online
CATEGORIES:Virtual
ATTACH;FMTTYPE=image/jpeg:https://verra.org/wp-content/uploads/2023/06/jon-alcock-grassland.jpg
END:VEVENT
BEGIN:VEVENT
DTSTART;VALUE=DATE:20260209
DTEND;VALUE=DATE:20260214
DTSTAMP:20260423T123624
CREATED:20260113T174211Z
LAST-MODIFIED:20260209T201454Z
UID:10000063-1770595200-1771027199@verra.org
SUMMARY:BIOFOR
DESCRIPTION:Verra staff speaking: Ian Kuwahara\, Director\, Energy and Industrial Innovation  \nAt BIOFOR 2026\, the forest bioeconomy track within the PaperWeek 2026 virtual conference\, Ian will speak during the session “Derisking CCS/CCU across the Project Lifecycle: A Blueprint for Success” on Wednesday\, February 11\, from 3:30–5:00 pm (ET\, virtual session).  \nIn this session\, Ian will share how robust carbon dioxide removal (CDR) quantification\, verification\, and MRV requirements can help de-risk CCS and CCU projects and support the credible generation and sale of carbon removal credits.  \nRegister here 
URL:https://verra.org/events/biofor/
LOCATION:Online
CATEGORIES:Virtual
ATTACH;FMTTYPE=image/png:https://verra.org/wp-content/uploads/2026/01/Screenshot-2026-01-09-140247.png
END:VEVENT
BEGIN:VEVENT
DTSTART;TZID=America/New_York:20260204T100000
DTEND;TZID=America/New_York:20260204T110000
DTSTAMP:20260423T123624
CREATED:20260119T150546Z
LAST-MODIFIED:20260223T221824Z
UID:10000068-1770199200-1770202800@verra.org
SUMMARY:Overview of Version 5 of the VCS Program
DESCRIPTION:In December 2025\, Verra launched version 5 of its market-leading Verified Carbon Standard (VCS) Program\, introducing its most comprehensive social and environmental safeguards and placing communities at the center of climate action. \nThe updated VCS Program strengthens requirements across the full project lifecycle\, with a particular focus on respecting land and resource rights\, reinforcing stakeholder engagement\, and enhancing adaptive management. \nIn this webinar\, we provide an overview of the updates\, discuss the next steps\, and answer your questions.
URL:https://verra.org/events/overview-of-version-5-of-the-vcs-program/
LOCATION:Online
CATEGORIES:Virtual
ATTACH;FMTTYPE=image/jpeg:https://verra.org/wp-content/uploads/2023/07/Avoiding-Planned-Deforestation-and-Degradation-in-the-Valdivian-Coastal-Reserve-1175-Carolina-Pino-Chile-Larch-forest-looking-up-rotated-1-scaled.jpg
END:VEVENT
BEGIN:VEVENT
DTSTART;VALUE=DATE:20260122
DTEND;VALUE=DATE:20260123
DTSTAMP:20260423T123624
CREATED:20260105T160835Z
LAST-MODIFIED:20260209T202742Z
UID:10000060-1769040000-1769126399@verra.org
SUMMARY:A Deep Dive: VM0047\, dMRV and Smallholder Farmers - webinar
DESCRIPTION:Verra staff speaking: Spencer Plumb\, Senior Manager\, Forest Management Innovation. \nThis webinar will explore how Verra’s new methodology\, VM0047\, uses dynamic baselines to enhance the accuracy and integrity of forest carbon accounting. Panelists will discuss how this innovative approach supports real climate impact by reflecting changing deforestation risks over time. \nRegister here
URL:https://verra.org/events/vm0047-webinar/
LOCATION:Online
CATEGORIES:Virtual
ATTACH;FMTTYPE=image/jpeg:https://verra.org/wp-content/uploads/2025/12/trees-975091_1280.jpg
END:VEVENT
BEGIN:VEVENT
DTSTART;VALUE=DATE:20251126
DTEND;VALUE=DATE:20251127
DTSTAMP:20260423T123624
CREATED:20251121T140828Z
LAST-MODIFIED:20260209T202735Z
UID:10000053-1764115200-1764201599@verra.org
SUMMARY:Webinar on advances in MRV for agricultural carbon credits (focus on rice)
DESCRIPTION:Verra staff speaking: Carolina Cardoso Lisboa\, Manager\, Agriculture Innovation. \nJoin Verra and leading voices in agricultural carbon as we explore practical solutions to enhance measurement\, reporting\, and verification (MRV) across the sector. This session will spotlight real-world innovations and field-tested strategies to improve emissions accounting\, empower producers\, and enable high-integrity climate action in agriculture. Designed for practitioners and policymakers alike\, the discussion will offer actionable insights to help build more resilient and sustainable food systems.
URL:https://verra.org/events/webinar-on-advances-in-mrv-for-agricultural-carbon-credits-focus-on-rice/
LOCATION:Online
CATEGORIES:Virtual
ATTACH;FMTTYPE=image/jpeg:https://verra.org/wp-content/uploads/2025/10/steven-weeks-DUPFowqI6oI-unsplash-scaled.jpg
END:VEVENT
BEGIN:VEVENT
DTSTART;VALUE=DATE:20251119
DTEND;VALUE=DATE:20251121
DTSTAMP:20260423T123624
CREATED:20251020T160045Z
LAST-MODIFIED:20260209T202723Z
UID:10000039-1763578800-1763665199@verra.org
SUMMARY:Webinar “How are emerging technologies accepted and used in soil carbon market standards and registries?”
DESCRIPTION:Verra staff speaking: Viridiana Alcantrara\, Manager\, Agriculture Innovation. \nThis webinar explores how emerging technologies—like remote sensing and AI—are being used to improve the credibility and scalability of soil carbon projects. The focus is on how these tools are integrated into standards and registries. \nVerra is advancing digital monitoring and robust methodologies for land-based climate solutions\, including soil carbon. Our participation reflects our commitment to innovation\, transparency\, and high-integrity standards.
URL:https://verra.org/events/webinar-how-are-emerging-technologies-accepted-and-used-in-soil-carbon-market-standards-and-registries/
LOCATION:Online
CATEGORIES:Virtual
ATTACH;FMTTYPE=image/jpeg:https://verra.org/wp-content/uploads/2025/10/steven-weeks-DUPFowqI6oI-unsplash-scaled.jpg
END:VEVENT
BEGIN:VEVENT
DTSTART;VALUE=DATE:20251106
DTEND;VALUE=DATE:20251107
DTSTAMP:20260423T123624
CREATED:20251009T193918Z
LAST-MODIFIED:20260209T202713Z
UID:10000035-1762387200-1762473599@verra.org
SUMMARY:CORSIA Clarity in 45 Minutes: Eligible Credits\, Verified Supply\, Structured Strategy
DESCRIPTION:Verra staff speaking: Angelo Sartori\, Senior Director\, Government and Policy Engagement. \nEverything you need to source credits that count. As Phase 1 of CORSIA takes hold and new standards roll out across global markets\, we’re seeing eligible credits become increasingly difficult to secure and verify\, and regulatory pressure is climbing. This webinar is designed for procurement\, sustainability\, and decision-makers across the aviation industry who want to win on cost\, compliance\, and credibility. \n 
URL:https://verra.org/events/corsia-clarity-in-45-minutes-eligible-credits-verified-supply-structured-strategy/
LOCATION:Online
CATEGORIES:Virtual
ATTACH;FMTTYPE=image/jpeg:https://verra.org/wp-content/uploads/2025/08/john-mcarthur-8KLLgqHMAv4-unsplash.jpg
END:VEVENT
BEGIN:VEVENT
DTSTART;TZID=America/New_York:20251028T080000
DTEND;TZID=America/New_York:20251028T090000
DTSTAMP:20260423T123624
CREATED:20251022T180925Z
LAST-MODIFIED:20260209T202640Z
UID:10000040-1761638400-1761642000@verra.org
SUMMARY:Proving Soil Carbon at Scale: AgreenaCarbon’s Landmark Verra Verification
DESCRIPTION:Verra is pleased to participate in the upcoming webinar\, “Proving Soil Carbon at Scale: AgreenaCarbon’s Landmark Verra Verification\,” hosted by Agreena on 28 October 2025. \nThis webinar marks a milestone for Verra’s VM0042 Methodology for Improved Agricultural Land Management (IALM)—highlighting how one of Europe’s largest soil carbon platforms is leveraging this framework to scale high-integrity nature-based solutions in agriculture. \nVerra speaker: Viridiana Alcantara\, Manager\, Agriculture Innovation\, will join the session to share insights on the design and rigor behind VM0042 and how it supports credible carbon credit generation in working agricultural landscapes. \nTogether with Agreena\, we look forward to exploring the role of soil carbon in the voluntary carbon market and what’s next for agriculture-based climate action.
URL:https://verra.org/events/proving-soil-carbon-at-scale-agreenacarbons-landmark-verra-verification/
LOCATION:Online
CATEGORIES:Virtual
ATTACH;FMTTYPE=image/png:https://verra.org/wp-content/uploads/2025/07/UK-2-scaled.png
END:VEVENT
BEGIN:VEVENT
DTSTART;VALUE=DATE:20251028
DTEND;VALUE=DATE:20251029
DTSTAMP:20260423T123624
CREATED:20250912T170918Z
LAST-MODIFIED:20260209T202629Z
UID:10000016-1761609600-1761695999@verra.org
SUMMARY:Yale Forest Forum "Assessing Permanence Risk: Developing Maps and Tools"
DESCRIPTION:Verra staff speaking: Liz Guinessey\, Manager\, Food and Blue Carbon Innovation. \nClimate change is driving increasing risks of disturbances to forest carbon in many regions of the world. Successful nature-based climate solutions in forests require durability and robust\, evidence-based mechanisms like buffer pools\, which are urgently needed. Anderegg will present a suite of his recent research that aims to address this need in U.S. and global forests. \n 
URL:https://verra.org/events/yale-forest-forum-assessing-permanence-risk-in-theory-and-in-practice/
LOCATION:Online
CATEGORIES:Virtual
ATTACH;FMTTYPE=image/jpeg:https://verra.org/wp-content/uploads/2025/09/eda62b61-93f5-4fdd-920a-a09acfd623ad.jpg
END:VEVENT
BEGIN:VEVENT
DTSTART;VALUE=DATE:20251023
DTEND;VALUE=DATE:20251024
DTSTAMP:20260423T123624
CREATED:20251009T183007Z
LAST-MODIFIED:20260209T202619Z
UID:10000028-1761177600-1761263999@verra.org
SUMMARY:MÉXICO2 Carbon Markets Course
DESCRIPTION:Verra staff speaking: Valeria Enciso\, Senior Program Officer\, Market Relations. \nOur Diploma in Carbon Markets includes an introduction to all the elements associated with carbon markets\, along with basic content on Emissions Trading Systems (ETS)\, carbon taxes\, and the voluntary carbon market\, using a participatory and interactive approach. \nThe program is designed to respond to emerging requirements and general trends in a global\, national\, and subnational context and is aimed at professionals interested in carbon markets\, including business professionals\, government stakeholders\, civil society actors\, and the general public.
URL:https://verra.org/events/mexico2-carbon-markets-course/
LOCATION:Online
CATEGORIES:Virtual
ATTACH;FMTTYPE=image/jpeg:https://verra.org/wp-content/uploads/2025/10/mexico-4181231_1280-magdalena-maier.jpg
END:VEVENT
BEGIN:VEVENT
DTSTART;TZID=America/New_York:20251016T110000
DTEND;TZID=America/New_York:20251016T120000
DTSTAMP:20260423T123624
CREATED:20251009T181633Z
LAST-MODIFIED:20260209T202558Z
UID:10000027-1760612400-1760616000@verra.org
SUMMARY:Overview of New Digital Soil Mapping Tool (VT0014) in the VCS Program
DESCRIPTION:On Thursday\, October 16\, at 11:00 am ET\, Verra and Perennial (external) will be hosting a webinar to provide an overview of the new digital soil mapping (DSM) tool in the Verified Carbon Standard (VCS) Program. \nThe tool\, VT0014 Estimating Organic Carbon Stocks Using Digital Soil Mapping\, v1.0\, was released in August and facilitates the robust and verifiable quantification of greenhouse gas emission reductions and carbon dioxide removals in agricultural land management (ALM) carbon projects. It is based on up-to-date science and novel technologies\, such as remote sensing\, and enables ALM projects to generate high-integrity carbon credits cost-effectively and at scale. \nThe tool is currently approved for use under VM0042 Methodology for Improved Agricultural Land Management and VM0032 Methodology for the Adoption of Sustainable Grasslands through Adjustment of Fire and Grazing.
URL:https://verra.org/events/overview-of-new-digital-soil-mapping-tool-vt0014-in-the-vcs-program/
LOCATION:Online
CATEGORIES:Virtual
ATTACH;FMTTYPE=image/jpeg:https://verra.org/wp-content/uploads/2025/10/steven-weeks-DUPFowqI6oI-unsplash-scaled.jpg
END:VEVENT
BEGIN:VEVENT
DTSTART;VALUE=DATE:20251015
DTEND;VALUE=DATE:20251017
DTSTAMP:20260423T123624
CREATED:20251009T180215Z
LAST-MODIFIED:20260209T202544Z
UID:10000025-1760486400-1760659199@verra.org
SUMMARY:CMI Carbon Market and Investor Forum
DESCRIPTION:Verra staff speaking: Win Sim Tan\, Regional Representative Asia and the Pacific. \nThe 2025 Forum will convene senior leaders from government\, finance\, and industry to strengthen Asia–Pacific carbon markets\, accelerate investment\, and advance the region’s net zero transition.
URL:https://verra.org/events/cmi-carbon-market-and-investor-forum-2/
LOCATION:Online
CATEGORIES:Virtual
ATTACH;FMTTYPE=image/jpeg:https://verra.org/wp-content/uploads/2025/09/singapore.jpg
END:VEVENT
BEGIN:VEVENT
DTSTART;TZID=America/New_York:20251007T120000
DTEND;TZID=America/New_York:20251007T130000
DTSTAMP:20260423T123624
CREATED:20250911T205851Z
LAST-MODIFIED:20260209T202512Z
UID:10000010-1759838400-1759842000@verra.org
SUMMARY:Yale Forest Forum "Leakage in Theory and in Practice"
DESCRIPTION:Adam Daigneault and Spencer Plumb will review recent research using the Global Timber Model to quantify carbon leakage from forest conservation and management projects across the globe\, indicating that current one-size-fits-all leakage discounts oversimplify the market and carbon dynamics behind robust leakage accounting. \nVerra Staff in Attendance: \n\nSpencer Plumb\, Senior Manager\, Forest Management Innovation
URL:https://verra.org/events/yale-forest-forum-leakage-in-theory-and-in-practice/
LOCATION:Online
CATEGORIES:Virtual
ATTACH;FMTTYPE=image/jpeg:https://verra.org/wp-content/uploads/2025/09/eda62b61-93f5-4fdd-920a-a09acfd623ad.jpg
END:VEVENT
END:VCALENDAR