BEGIN:VCALENDAR
VERSION:2.0
PRODID:-//Verra - ECPv6.15.10//NONSGML v1.0//EN
CALSCALE:GREGORIAN
METHOD:PUBLISH
X-WR-CALNAME:Verra
X-ORIGINAL-URL:https://verra.org
X-WR-CALDESC:Events for Verra
REFRESH-INTERVAL;VALUE=DURATION:PT1H
X-Robots-Tag:noindex
X-PUBLISHED-TTL:PT1H
BEGIN:VTIMEZONE
TZID:America/New_York
BEGIN:DAYLIGHT
TZOFFSETFROM:-0500
TZOFFSETTO:-0400
TZNAME:EDT
DTSTART:20250309T070000
END:DAYLIGHT
BEGIN:STANDARD
TZOFFSETFROM:-0400
TZOFFSETTO:-0500
TZNAME:EST
DTSTART:20251102T060000
END:STANDARD
BEGIN:DAYLIGHT
TZOFFSETFROM:-0500
TZOFFSETTO:-0400
TZNAME:EDT
DTSTART:20260308T070000
END:DAYLIGHT
BEGIN:STANDARD
TZOFFSETFROM:-0400
TZOFFSETTO:-0500
TZNAME:EST
DTSTART:20261101T060000
END:STANDARD
BEGIN:DAYLIGHT
TZOFFSETFROM:-0500
TZOFFSETTO:-0400
TZNAME:EDT
DTSTART:20270314T070000
END:DAYLIGHT
BEGIN:STANDARD
TZOFFSETFROM:-0400
TZOFFSETTO:-0500
TZNAME:EST
DTSTART:20271107T060000
END:STANDARD
END:VTIMEZONE
BEGIN:VEVENT
DTSTART;TZID=America/New_York:20260331T120000
DTEND;TZID=America/New_York:20260331T130000
DTSTAMP:20260420T114503
CREATED:20260220T174912Z
LAST-MODIFIED:20260224T215417Z
UID:10000092-1774958400-1774962000@verra.org
SUMMARY:Implementation panel on enrolling in carbon offset markets
DESCRIPTION:Verra staff speaking: Kristen Linscott\, Manager\, Financial Planning and Analysis \nKristen will join a webinar hosted by the Yale Center for Natural Carbon Capture as part of the spring 2026 course Natural Climate Solutions in Agricultural Landscapes: A Survey of Practices. This weekly public webinar series explores carbon dioxide removal practices in agriculture\, including agroforestry\, cover crops\, compost\, and other natural climate solutions\, and their potential to remove carbon while delivering co-benefits for food production and ecosystems. \nIn her session\, Kristen will participate in an interactive panel discussion and Q&A on practical approaches to enrolling in carbon offset markets. \nLearn more and register here.
URL:https://verra.org/events/implementation-panel-on-enrolling-in-carbon-offset-markets/
CATEGORIES:Virtual
ATTACH;FMTTYPE=image/jpeg:https://verra.org/wp-content/uploads/2026/02/no-one-cares-l_5MJnbrmrs-unsplash-scaled.jpg
LOCATION:https://yale.zoom.us/webinar/register/WN_vNFZngrBQ-KA7p4Tn7-48g#/
END:VEVENT
END:VCALENDAR