BEGIN:VCALENDAR
VERSION:2.0
PRODID:-//Verra - ECPv6.15.10//NONSGML v1.0//EN
CALSCALE:GREGORIAN
METHOD:PUBLISH
X-ORIGINAL-URL:https://verra.org
X-WR-CALDESC:Events for Verra
REFRESH-INTERVAL;VALUE=DURATION:PT1H
X-Robots-Tag:noindex
X-PUBLISHED-TTL:PT1H
BEGIN:VTIMEZONE
TZID:America/New_York
BEGIN:DAYLIGHT
TZOFFSETFROM:-0500
TZOFFSETTO:-0400
TZNAME:EDT
DTSTART:20250309T070000
END:DAYLIGHT
BEGIN:STANDARD
TZOFFSETFROM:-0400
TZOFFSETTO:-0500
TZNAME:EST
DTSTART:20251102T060000
END:STANDARD
BEGIN:DAYLIGHT
TZOFFSETFROM:-0500
TZOFFSETTO:-0400
TZNAME:EDT
DTSTART:20260308T070000
END:DAYLIGHT
BEGIN:STANDARD
TZOFFSETFROM:-0400
TZOFFSETTO:-0500
TZNAME:EST
DTSTART:20261101T060000
END:STANDARD
BEGIN:DAYLIGHT
TZOFFSETFROM:-0500
TZOFFSETTO:-0400
TZNAME:EDT
DTSTART:20270314T070000
END:DAYLIGHT
BEGIN:STANDARD
TZOFFSETFROM:-0400
TZOFFSETTO:-0500
TZNAME:EST
DTSTART:20271107T060000
END:STANDARD
END:VTIMEZONE
BEGIN:VEVENT
DTSTART;TZID=America/New_York:20260415T090000
DTEND;TZID=America/New_York:20260415T100000
DTSTAMP:20260423T034410
CREATED:20260326T142402Z
LAST-MODIFIED:20260326T142402Z
UID:10000097-1776243600-1776247200@verra.org
SUMMARY:From Forest to Finance: Building High-Integrity ARR Projects with dMRV
DESCRIPTION:Verra staff speaking: Spencer Plumb\, Senior Manager\, Forest Carbon Innovations Manager \nIn this webinar\, hosted by Sylvera\, learn how satellite-derived biomass data is transforming ARR projects from site selection to verified credits. This panel brings together a registry\, project developer\, and investor to show how VM0047 workflows and digital MRV boost confidence\, streamline timelines\, and strengthen quality signals for buyers and verification bodies. \nLearn more and register here
URL:https://verra.org/events/from-forest-to-finance-building-high-integrity-arr-projects-with-dmrv/
LOCATION:Online
CATEGORIES:Virtual
ATTACH;FMTTYPE=image/webp:https://verra.org/wp-content/uploads/2026/02/img-green-scaled-1.webp
END:VEVENT
END:VCALENDAR