BEGIN:VCALENDAR
VERSION:2.0
PRODID:-//Verra - ECPv6.15.10//NONSGML v1.0//EN
CALSCALE:GREGORIAN
METHOD:PUBLISH
X-WR-CALNAME:Verra
X-ORIGINAL-URL:https://verra.org
X-WR-CALDESC:Events for Verra
REFRESH-INTERVAL;VALUE=DURATION:PT1H
X-Robots-Tag:noindex
X-PUBLISHED-TTL:PT1H
BEGIN:VTIMEZONE
TZID:America/New_York
BEGIN:DAYLIGHT
TZOFFSETFROM:-0500
TZOFFSETTO:-0400
TZNAME:EDT
DTSTART:20240310T070000
END:DAYLIGHT
BEGIN:STANDARD
TZOFFSETFROM:-0400
TZOFFSETTO:-0500
TZNAME:EST
DTSTART:20241103T060000
END:STANDARD
BEGIN:DAYLIGHT
TZOFFSETFROM:-0500
TZOFFSETTO:-0400
TZNAME:EDT
DTSTART:20250309T070000
END:DAYLIGHT
BEGIN:STANDARD
TZOFFSETFROM:-0400
TZOFFSETTO:-0500
TZNAME:EST
DTSTART:20251102T060000
END:STANDARD
BEGIN:DAYLIGHT
TZOFFSETFROM:-0500
TZOFFSETTO:-0400
TZNAME:EDT
DTSTART:20260308T070000
END:DAYLIGHT
BEGIN:STANDARD
TZOFFSETFROM:-0400
TZOFFSETTO:-0500
TZNAME:EST
DTSTART:20261101T060000
END:STANDARD
END:VTIMEZONE
BEGIN:VEVENT
DTSTART;VALUE=DATE:20251111
DTEND;VALUE=DATE:20251115
DTSTAMP:20260420T155506
CREATED:20250912T171406Z
LAST-MODIFIED:20251112T141657Z
UID:10000017-1762858800-1763117999@verra.org
SUMMARY:Carbon Conference 2025: Navigating Carbon Tax\, Green Technology & Finance
DESCRIPTION:Verra staff speaking: Win Sim Tan\, Regional Representative Asia and the Pacific. \nThis full-day conference is designed to bring together a distinguished group of industry leaders\, policymakers\, sustainability experts\, and financial professionals to examine the evolving dynamics of carbon regulation and environmental finance. \n 
URL:https://verra.org/events/carbon-conference-2025-navigating-carbon-tax-green-technology-finance/
LOCATION:Kuala Lumpur Convention Centre\, Kuala Lumpur\, Malaysia
CATEGORIES:In-Person
ATTACH;FMTTYPE=image/jpeg:https://verra.org/wp-content/uploads/2025/09/sua-truong-TVt9WMTbfEQ-unsplash-kuala-lumpur.jpg
END:VEVENT
END:VCALENDAR