BEGIN:VCALENDAR
VERSION:2.0
PRODID:-//Verra - ECPv6.15.10//NONSGML v1.0//EN
CALSCALE:GREGORIAN
METHOD:PUBLISH
X-WR-CALNAME:Verra
X-ORIGINAL-URL:https://verra.org
X-WR-CALDESC:Events for Verra
REFRESH-INTERVAL;VALUE=DURATION:PT1H
X-Robots-Tag:noindex
X-PUBLISHED-TTL:PT1H
BEGIN:VTIMEZONE
TZID:America/New_York
BEGIN:DAYLIGHT
TZOFFSETFROM:-0500
TZOFFSETTO:-0400
TZNAME:EDT
DTSTART:20250309T070000
END:DAYLIGHT
BEGIN:STANDARD
TZOFFSETFROM:-0400
TZOFFSETTO:-0500
TZNAME:EST
DTSTART:20251102T060000
END:STANDARD
BEGIN:DAYLIGHT
TZOFFSETFROM:-0500
TZOFFSETTO:-0400
TZNAME:EDT
DTSTART:20260308T070000
END:DAYLIGHT
BEGIN:STANDARD
TZOFFSETFROM:-0400
TZOFFSETTO:-0500
TZNAME:EST
DTSTART:20261101T060000
END:STANDARD
BEGIN:DAYLIGHT
TZOFFSETFROM:-0500
TZOFFSETTO:-0400
TZNAME:EDT
DTSTART:20270314T070000
END:DAYLIGHT
BEGIN:STANDARD
TZOFFSETFROM:-0400
TZOFFSETTO:-0500
TZNAME:EST
DTSTART:20271107T060000
END:STANDARD
END:VTIMEZONE
BEGIN:VEVENT
DTSTART;VALUE=DATE:20260504
DTEND;VALUE=DATE:20260505
DTSTAMP:20260424T062902
CREATED:20260421T194552Z
LAST-MODIFIED:20260421T194552Z
UID:10000106-1777852800-1777939199@verra.org
SUMMARY:HederaCon 2026
DESCRIPTION:Verra staff speaking: Joe Dell’Orfano\, Chief Technology Officer \nHederaCon 2026 will bring together the entire Hedera ecosystem\, alongside enterprises\, partners\, policymakers\, and builders. Together\, we’ll explore the technologies\, emerging trends\, and policies shaping the digital economy. \nOn May 4 at 10:35 am\, Joe will speak on the panel “From Proven Finance to Sustainable Impact”. This panel explores how technologies like blockchain are enabling scalable\, transparent\, and verifiable climate finance and carbon markets. \nLearn more and register here
URL:https://verra.org/events/hederacon-2026/
LOCATION:Faena Forum\, 3300 Collins Ave\, Miami Beach\, FL\, 33140\, United States
CATEGORIES:In-Person
ATTACH;FMTTYPE=image/jpeg:https://verra.org/wp-content/uploads/2026/04/antonio-cuellar-KDS5lCrj_ew-unsplash-scaled.jpg
GEO:25.8085283;-80.1238877
X-APPLE-STRUCTURED-LOCATION;VALUE=URI;X-ADDRESS=Faena Forum 3300 Collins Ave Miami Beach FL 33140 United States;X-APPLE-RADIUS=500;X-TITLE=3300 Collins Ave:geo:-80.1238877,25.8085283
END:VEVENT
END:VCALENDAR