BEGIN:VCALENDAR
VERSION:2.0
PRODID:-//Verra - ECPv6.15.10//NONSGML v1.0//EN
CALSCALE:GREGORIAN
METHOD:PUBLISH
X-WR-CALNAME:Verra
X-ORIGINAL-URL:https://verra.org
X-WR-CALDESC:Events for Verra
REFRESH-INTERVAL;VALUE=DURATION:PT1H
X-Robots-Tag:noindex
X-PUBLISHED-TTL:PT1H
BEGIN:VTIMEZONE
TZID:America/New_York
BEGIN:DAYLIGHT
TZOFFSETFROM:-0500
TZOFFSETTO:-0400
TZNAME:EDT
DTSTART:20240310T070000
END:DAYLIGHT
BEGIN:STANDARD
TZOFFSETFROM:-0400
TZOFFSETTO:-0500
TZNAME:EST
DTSTART:20241103T060000
END:STANDARD
BEGIN:DAYLIGHT
TZOFFSETFROM:-0500
TZOFFSETTO:-0400
TZNAME:EDT
DTSTART:20250309T070000
END:DAYLIGHT
BEGIN:STANDARD
TZOFFSETFROM:-0400
TZOFFSETTO:-0500
TZNAME:EST
DTSTART:20251102T060000
END:STANDARD
BEGIN:DAYLIGHT
TZOFFSETFROM:-0500
TZOFFSETTO:-0400
TZNAME:EDT
DTSTART:20260308T070000
END:DAYLIGHT
BEGIN:STANDARD
TZOFFSETFROM:-0400
TZOFFSETTO:-0500
TZNAME:EST
DTSTART:20261101T060000
END:STANDARD
END:VTIMEZONE
BEGIN:VEVENT
DTSTART;VALUE=DATE:20251014
DTEND;VALUE=DATE:20251017
DTSTAMP:20260425T095540
CREATED:20251009T174550Z
LAST-MODIFIED:20251015T162943Z
UID:10000024-1760400000-1760659199@verra.org
SUMMARY:Cumbre del clima Colombia y LATAM
DESCRIPTION:Verra staff speaking: Susana Velez-Haller\, Regional Representative\, Latin America and the Caribbean. \nVerra was invited to speak on biodiversity as an asset\, addressing the incentives and challenges to scaling conservation credits. This engagement reflects Verra’s role in supporting high-integrity approaches to conservation finance in the carbon market space.
URL:https://verra.org/events/cumbre-del-clima-colombia-y-latam/
LOCATION:Tequendama Hotel Convention Center\, Bogotá\, Colombia
CATEGORIES:In-Person
ATTACH;FMTTYPE=image/jpeg:https://verra.org/wp-content/uploads/2025/10/colombia-2434911_1280-gustavo9917.jpg
END:VEVENT
END:VCALENDAR