BEGIN:VCALENDAR
VERSION:2.0
PRODID:-//Verra - ECPv6.15.10//NONSGML v1.0//EN
CALSCALE:GREGORIAN
METHOD:PUBLISH
X-WR-CALNAME:Verra
X-ORIGINAL-URL:https://verra.org
X-WR-CALDESC:Events for Verra
REFRESH-INTERVAL;VALUE=DURATION:PT1H
X-Robots-Tag:noindex
X-PUBLISHED-TTL:PT1H
BEGIN:VTIMEZONE
TZID:America/New_York
BEGIN:DAYLIGHT
TZOFFSETFROM:-0500
TZOFFSETTO:-0400
TZNAME:EDT
DTSTART:20250309T070000
END:DAYLIGHT
BEGIN:STANDARD
TZOFFSETFROM:-0400
TZOFFSETTO:-0500
TZNAME:EST
DTSTART:20251102T060000
END:STANDARD
BEGIN:DAYLIGHT
TZOFFSETFROM:-0500
TZOFFSETTO:-0400
TZNAME:EDT
DTSTART:20260308T070000
END:DAYLIGHT
BEGIN:STANDARD
TZOFFSETFROM:-0400
TZOFFSETTO:-0500
TZNAME:EST
DTSTART:20261101T060000
END:STANDARD
BEGIN:DAYLIGHT
TZOFFSETFROM:-0500
TZOFFSETTO:-0400
TZNAME:EDT
DTSTART:20270314T070000
END:DAYLIGHT
BEGIN:STANDARD
TZOFFSETFROM:-0400
TZOFFSETTO:-0500
TZNAME:EST
DTSTART:20271107T060000
END:STANDARD
END:VTIMEZONE
BEGIN:VEVENT
DTSTART;VALUE=DATE:20260602
DTEND;VALUE=DATE:20260605
DTSTAMP:20260424T075034
CREATED:20260421T194525Z
LAST-MODIFIED:20260421T194525Z
UID:10000105-1780358400-1780617599@verra.org
SUMMARY:ICAO Aviation Climate Week 2026
DESCRIPTION:Verra staff speaking: Candace Vinke\, Chief Program Development and Innovation Officer \nThe ICAO Aviation Climate Week 2026 (2–4 June\, Montréal) is a three-day global conference bringing together aviation leaders to advance net-zero goals\, showcase latest environmental developments\, and drive progress on sustainable aviation fuels and climate commitments. \n\n\n\n\n\n\n\nOn June 4 at 11:00 am\, Candace will speak on the panel “CORSIA\, Part 2: Addressing CORSIA requirements through CORSIA Eligible Fuels and CORSIA Eligible Emissions Units\,” which will explore how airlines meet offsetting obligations via sustainable fuels and emissions units\, including eligibility frameworks\, safeguards against double-counting\, and market availability factors. \n\n\n\nLearn more and register here
URL:https://verra.org/events/icao-aviation-climate-week-2026/
LOCATION:ICAO Headquarters\, 999 Robert-Bourassa Boulevard\, Montreal\, Canada
CATEGORIES:In-Person
ATTACH;FMTTYPE=image/jpeg:https://verra.org/wp-content/uploads/2026/04/jackie-hutchinson-JJYzJXbwB20-unsplash-scaled.jpg
GEO:45.5005115;-73.563227
X-APPLE-STRUCTURED-LOCATION;VALUE=URI;X-ADDRESS=ICAO Headquarters 999 Robert-Bourassa Boulevard Montreal Canada;X-APPLE-RADIUS=500;X-TITLE=999 Robert-Bourassa Boulevard:geo:-73.563227,45.5005115
END:VEVENT
BEGIN:VEVENT
DTSTART;VALUE=DATE:20260603
DTEND;VALUE=DATE:20260605
DTSTAMP:20260424T075034
CREATED:20260421T193900Z
LAST-MODIFIED:20260421T194112Z
UID:10000103-1780444800-1780617599@verra.org
SUMMARY:Argentina Carbon Forum
DESCRIPTION:Verra staff speaking: Angelo Sartori\, Senior Director\, Government and Policy Engagement | Diego Ezcurra\, Manager\, VCS Methodologies\, Technological & Industrial Solutions \nArgentina Carbon Forum\, organized by MexiCO2 and Genesis\, is the leading carbon markets event in Argentina\, bringing together key stakeholders from the public and private sectors\, academia\, and international organizations to accelerate climate action. The forum serves as a platform to exchange insights\, foster collaboration\, and drive the development of carbon markets and low-emission solutions across Latin America\, supporting the transition toward a sustainable\, climate-resilient economy. \nVisit Verra at Argentina Carbon Forum! Stop by our booth to learn more about Verra’s work and current initiatives across carbon markets and climate action. To connect with the Verra team during the conference\, please contact events@verra.org. \nLearn more and register here
URL:https://verra.org/events/argentina-carbon-forum/
LOCATION:Bolsa de Comercio de Buenos Aires\, Sarmiento 299\, Buenos Aires\, Argentina
CATEGORIES:In-Person
ATTACH;FMTTYPE=image/jpeg:https://verra.org/wp-content/uploads/2026/04/juan-pablo-mascanfroni-CJvgl9hmsw-unsplash-scaled.jpg
GEO:-34.6041256;-58.3709127
X-APPLE-STRUCTURED-LOCATION;VALUE=URI;X-ADDRESS=Bolsa de Comercio de Buenos Aires Sarmiento 299 Buenos Aires Argentina;X-APPLE-RADIUS=500;X-TITLE=Sarmiento 299:geo:-58.3709127,-34.6041256
END:VEVENT
BEGIN:VEVENT
DTSTART;VALUE=DATE:20260617
DTEND;VALUE=DATE:20260619
DTSTAMP:20260424T075034
CREATED:20260202T181336Z
LAST-MODIFIED:20260213T194543Z
UID:10000071-1781654400-1781827199@verra.org
SUMMARY:Climate Futures APAC Summit 2026
DESCRIPTION:Participating: Marc Stuart\, Chair of the Verra Board of Directors & Win Sim Tan\, Regional Representative\, Asia and the Pacific \n\nClimate Futures APAC Summit brings together leaders from across carbon markets\, finance\, and policy to examine how high-integrity climate solutions can scale across the Asia-Pacific region. \nMarc will speak on the panel “High-Integrity Supply: Pricing Quality and Scaling Crediting 2.0.” The discussion will focus on how integrity principles translate into pricing and long-term offtake structures\, how tools such as ratings and data assurance can streamline due diligence\, and how next-generation standards and approaches can help future-proof high-quality carbon supply. \nWin will speak on the panel “Carbon Accounting in Action: From Compliance Obligation to APAC’s Lasting Competitive Advantage” on June 18 at 9:05 AM\, exploring how APAC companies are turning carbon accounting from a compliance requirement into a strategic advantage. The discussion will cover Scope 3 data challenges\, digital MRV tools\, internal carbon pricing\, green financing\, and the evolving regional landscape of carbon markets across Asia. \nLearn more and register here
URL:https://verra.org/events/climate-futures-apac-summit-2026/
LOCATION:Intercontinental Bangkok\, Bangkok\, Thailand
CATEGORIES:In-Person
ATTACH;FMTTYPE=image/jpeg:https://verra.org/wp-content/uploads/2026/02/1200px-x-627-px.jpg
END:VEVENT
BEGIN:VEVENT
DTSTART;VALUE=DATE:20260622
DTEND;VALUE=DATE:20260626
DTSTAMP:20260424T075034
CREATED:20260211T223625Z
LAST-MODIFIED:20260211T223625Z
UID:10000085-1782086400-1782431999@verra.org
SUMMARY:Asia Pacific Sustainable Business Summit
DESCRIPTION:Verra staff speaking: Win Sim Tan\, Regional Representative\, Asia and the Pacific \nThe Asia‑Pacific Sustainable Business Summit brings together leaders from business\, finance\, government\, and research to explore sustainable models\, value chain transparency\, and climate action across the region. Sessions will focus on climate action\, responsible value chains\, and cross-sector collaboration. \nWin will speak on Day 2 (June 23) in the panel “Enabling Traceability and Decarbonization Across Value Chains\,” highlighting opportunities and challenges for building transparent\, low-carbon value chains. \nLearn more and register here
URL:https://verra.org/events/asia-pacific-sustainable-business-summit/
LOCATION:Indonesia Convention Exhibition\, Jakarta\, Indonesia
CATEGORIES:In-Person
ATTACH;FMTTYPE=image/jpeg:https://verra.org/wp-content/uploads/2026/02/muhammad-rizki-rN3R-lKI45M-unsplash-1-scaled.jpg
END:VEVENT
BEGIN:VEVENT
DTSTART;TZID=America/New_York:20260729T110000
DTEND;TZID=America/New_York:20260729T120000
DTSTAMP:20260424T075034
CREATED:20251110T170925Z
LAST-MODIFIED:20260223T215551Z
UID:10000046-1785322800-1785326400@verra.org
SUMMARY:Stakeholder Update Webinar (July 2026)
DESCRIPTION:Please join us for Verra’s quarterly Stakeholder Update Webinar. Learn more about Verra’s latest organizational developments\, programmatic updates\, and future priorities.
URL:https://verra.org/events/stakeholder-update-webinar-july-2026/
CATEGORIES:Virtual
ATTACH;FMTTYPE=image/jpeg:https://verra.org/wp-content/uploads/2025/11/mangrove-species-254419_1280.jpg
LOCATION:https://verra.zoom.us/webinar/register/WN_CoqbOLjoSYyb9hYb2dgE-w
END:VEVENT
BEGIN:VEVENT
DTSTART;VALUE=DATE:20261020
DTEND;VALUE=DATE:20261022
DTSTAMP:20260424T075034
CREATED:20260113T174338Z
LAST-MODIFIED:20260113T174338Z
UID:10000061-1792454400-1792627199@verra.org
SUMMARY:CDR26
DESCRIPTION:Verra staff speaking: Ian Kuwahara\, Director\, Energy and Industrial Innovation.  \nCDR26 is a global conference that brings together policymakers\, researchers\, and industry leaders working on carbon dioxide removal. The event will include the launch and signing of a new global policy framework for CDR developed by Carbon Dioxide Removal Action Network (CDRANet) delegates\, the Vancouver Declaration\, aimed at encouraging stronger government involvement and investment in high-integrity carbon removal. 
URL:https://verra.org/events/cdr26/
LOCATION:Vancouver Convention Center\, Vancouver\, Canada
CATEGORIES:In-Person
ATTACH;FMTTYPE=image/png:https://verra.org/wp-content/uploads/2026/01/Screenshot-2026-01-09-at-10.02.31-AM.png
END:VEVENT
BEGIN:VEVENT
DTSTART;TZID=America/New_York:20261028T110000
DTEND;TZID=America/New_York:20261028T120000
DTSTAMP:20260424T075034
CREATED:20251110T171231Z
LAST-MODIFIED:20260223T215443Z
UID:10000047-1793185200-1793188800@verra.org
SUMMARY:Stakeholder Update Webinar (October 2026)
DESCRIPTION:Please join us for Verra’s quarterly Stakeholder Update Webinar. Learn more about Verra’s latest organizational developments\, programmatic updates\, and future priorities.
URL:https://verra.org/events/stakeholder-update-webinar-october-2026/
CATEGORIES:Virtual
ATTACH;FMTTYPE=image/jpeg:https://verra.org/wp-content/uploads/2025/11/trip-2328347_1280.jpg
LOCATION:https://verra.zoom.us/webinar/register/WN_t0psLiALRjODwt8Jxp5ObQ
END:VEVENT
END:VCALENDAR