BEGIN:VCALENDAR
VERSION:2.0
PRODID:-//Verra - ECPv6.15.10//NONSGML v1.0//EN
CALSCALE:GREGORIAN
METHOD:PUBLISH
X-ORIGINAL-URL:https://verra.org
X-WR-CALDESC:Events for Verra
REFRESH-INTERVAL;VALUE=DURATION:PT1H
X-Robots-Tag:noindex
X-PUBLISHED-TTL:PT1H
BEGIN:VTIMEZONE
TZID:America/New_York
BEGIN:DAYLIGHT
TZOFFSETFROM:-0500
TZOFFSETTO:-0400
TZNAME:EDT
DTSTART:20250309T070000
END:DAYLIGHT
BEGIN:STANDARD
TZOFFSETFROM:-0400
TZOFFSETTO:-0500
TZNAME:EST
DTSTART:20251102T060000
END:STANDARD
BEGIN:DAYLIGHT
TZOFFSETFROM:-0500
TZOFFSETTO:-0400
TZNAME:EDT
DTSTART:20260308T070000
END:DAYLIGHT
BEGIN:STANDARD
TZOFFSETFROM:-0400
TZOFFSETTO:-0500
TZNAME:EST
DTSTART:20261101T060000
END:STANDARD
BEGIN:DAYLIGHT
TZOFFSETFROM:-0500
TZOFFSETTO:-0400
TZNAME:EDT
DTSTART:20270314T070000
END:DAYLIGHT
BEGIN:STANDARD
TZOFFSETFROM:-0400
TZOFFSETTO:-0500
TZNAME:EST
DTSTART:20271107T060000
END:STANDARD
END:VTIMEZONE
BEGIN:VEVENT
DTSTART;VALUE=DATE:20260414
DTEND;VALUE=DATE:20260417
DTSTAMP:20260421T231458
CREATED:20260306T184128Z
LAST-MODIFIED:20260414T143211Z
UID:10000094-1776124800-1776383999@verra.org
SUMMARY:European Climate Summit
DESCRIPTION:Verra staff participating: Angelo Sartori\, Senior Director\, Government and Policy Engagement | Cassio Souza\, Director\, Market and Client Relations | Liz Guinessey\, Manager\, Food and Blue Carbon Innovation | Milena Agudelo Palacio\,  Manager\, Agriculture\, Natural Climate Solutions | Viridiana Alcantara Manager\, Agriculture Innovation | Tina Irven\, Manager\, Global Event Strategy  \nThe European Climate Summit (ECS 2026) brings together policymakers\, industry leaders\, and carbon market stakeholders to discuss the latest trends\, standards\, and innovations in climate action across Europe.  \n\n\n\n\n\n\n\n\nOn Tuesday\, April 14 at 5:00 am\, join Verra’s session\, “Navigating CORSIA and Article 6.2: Practical Insights on Authorization\, Eligibility\, and Market Use”. Led by Angelo Sartori and Liz Guinessey\, this session explores Article 6.2 and CORSIA as evolving carbon market opportunities\, with a practical look at how credits are authorized and other details. \nOn Thursday\, April 16 at 10:15 am\, Verra will join the panel “VCM 2.0 – Corporate Climate Action and Support NDCS Delivery“. \nOn Thursday\, April 16 at 11:45 am\, Liz will join the panel “Scaling CORSIA in 2026: Challenges and Opportunities Affecting the Market“. \n\n\n\n\n\n\n\n\nVisit Verra at ECS26! Stop by our booth to learn more about Verra’s work and current initiatives across carbon markets and climate action. To connect with the Verra team during the conference\, please contact events@verra.org. \nLearn more and register here
URL:https://verra.org/events/european-climate-summit/
LOCATION:Casa Llotja de Mar\, Barcelona\, Spain
CATEGORIES:In-Person
ATTACH;FMTTYPE=image/png:https://verra.org/wp-content/uploads/2026/03/Untitled-design-1.png
GEO:41.3874374;2.1686496
END:VEVENT
BEGIN:VEVENT
DTSTART;VALUE=DATE:20260416
DTEND;VALUE=DATE:20260418
DTSTAMP:20260421T231458
CREATED:20260310T174637Z
LAST-MODIFIED:20260326T143216Z
UID:10000096-1776297600-1776470399@verra.org
SUMMARY:Colombia Carbon Forum
DESCRIPTION:Verra staff speaking: Susana Velez Haller\, Regional Representative\, Latin America and the Caribbean | Christian Ehrat\, Director\, VCS Program Methodologies   \nVerra staff participating: Valeria Enciso\, Senior Program Officer\, Market Relations  \nColombia Carbon Forum\, organized by MexiCO2 is Colombia’s leading carbon markets event\, bringing together government\, private sector\, civil society\, and international stakeholders to advance dialogue\, build capacity\, and accelerate development of high‑integrity carbon markets and climate action. \n\n\n\n\n\n\n\n\nSusana will speak on “Social and Community Benefits: The Heart of Carbon Markets” on April 16 at 11:20 AM\, and on “ALM in Latin America” at 10:00 AM on April 17\, and Verra will also lead a workshop on “Updates to Verra’s VCS Program” on April 17 at 1:40 PM. \n\n\n\n\n\n\n\n\nWe will have a booth\, please stop by and say hi!   \nLearn more and register here
URL:https://verra.org/events/colombia-carbon-forum/
LOCATION:Ágora Bogotá Centro de Convenciones\, Bogotá\, Colombia
ATTACH;FMTTYPE=image/jpeg:https://verra.org/wp-content/uploads/2026/03/random-institute-GkacI-_mGlg-unsplash-scaled.jpg
GEO:4.7109886;-74.072092
END:VEVENT
END:VCALENDAR