BEGIN:VCALENDAR
VERSION:2.0
PRODID:-//Verra - ECPv6.15.10//NONSGML v1.0//EN
CALSCALE:GREGORIAN
METHOD:PUBLISH
X-WR-CALNAME:Verra
X-ORIGINAL-URL:https://verra.org
X-WR-CALDESC:Events for Verra
REFRESH-INTERVAL;VALUE=DURATION:PT1H
X-Robots-Tag:noindex
X-PUBLISHED-TTL:PT1H
BEGIN:VTIMEZONE
TZID:America/New_York
BEGIN:DAYLIGHT
TZOFFSETFROM:-0500
TZOFFSETTO:-0400
TZNAME:EDT
DTSTART:20250309T070000
END:DAYLIGHT
BEGIN:STANDARD
TZOFFSETFROM:-0400
TZOFFSETTO:-0500
TZNAME:EST
DTSTART:20251102T060000
END:STANDARD
BEGIN:DAYLIGHT
TZOFFSETFROM:-0500
TZOFFSETTO:-0400
TZNAME:EDT
DTSTART:20260308T070000
END:DAYLIGHT
BEGIN:STANDARD
TZOFFSETFROM:-0400
TZOFFSETTO:-0500
TZNAME:EST
DTSTART:20261101T060000
END:STANDARD
BEGIN:DAYLIGHT
TZOFFSETFROM:-0500
TZOFFSETTO:-0400
TZNAME:EDT
DTSTART:20270314T070000
END:DAYLIGHT
BEGIN:STANDARD
TZOFFSETFROM:-0400
TZOFFSETTO:-0500
TZNAME:EST
DTSTART:20271107T060000
END:STANDARD
END:VTIMEZONE
BEGIN:VEVENT
DTSTART;VALUE=DATE:20260317
DTEND;VALUE=DATE:20260320
DTSTAMP:20260420T073733
CREATED:20260113T182922Z
LAST-MODIFIED:20260223T214037Z
UID:10000065-1773705600-1773964799@verra.org
SUMMARY:European Carbon Farming Summit
DESCRIPTION:Verra staff speaking: Carolina Cardoso Lisboa\, Manager\, Agriculture Innovation | Spencer Plumb\, Senior Manager\, Forest Management Innovation \nThe EU Carbon Farming Summit 2026 convenes policymakers\, project developers\, and industry leaders to explore innovations\, standards\, and collaboration frameworks for high-integrity carbon farming across Europe. The summit features expert panels\, interactive discussions\, and showcases emerging tools and methodologies to scale carbon farming projects while supporting sustainable rural livelihoods. \nCarolina will speak on the co-hosted panel with Seqana and OpenGeoHub on March 18 4:15PM ‘Building public trust in European carbon farming: regulatory support of standards\, measurement\, and digital infrastructure“\, providing clarity on methodology updates\, MRV requirements\, and building trust for scaling carbon farming projects across Europe. \nAt the summit\, Spencer will speak in the session “Harmonizing forest carbon certification: bridging EU\, national\, and private schemes for high-integrity carbon farming.” The panel will discuss how aligning certification systems can help strengthen trust and support the growth of forest carbon markets\, informed by Verra’s experience with forest carbon standards. \nLearn more and register here
URL:https://verra.org/events/european-carbon-farming-summit/
LOCATION:Padova Congress Centre\, Padova\, Italy
ATTACH;FMTTYPE=image/jpeg:https://verra.org/wp-content/uploads/2026/01/stefano-intintoli-WYutDmaA3yc-unsplash-scaled.jpg
END:VEVENT
BEGIN:VEVENT
DTSTART;VALUE=DATE:20260317
DTEND;VALUE=DATE:20260321
DTSTAMP:20260420T073733
CREATED:20260129T132853Z
LAST-MODIFIED:20260130T192434Z
UID:10000073-1773705600-1774051199@verra.org
SUMMARY:TCX Global Forum on Carbon Pricing & Climate Finance
DESCRIPTION:Verra staff speaking: Win Sim Tan\, Regional Representative\, Asia and the Pacific  \nThe Smart City Summit & Expo (SCSE) brings together city leaders\, policymakers\, and industry experts from around the world to discuss the future of smart\, sustainable\, and net-zero cities. More information is available on the SCSE website. \nAs part of SCSE 2026\, Win will deliver a keynote on 18 March at the Global Forum on Carbon Pricing & Climate Finance\, organized by the Taiwan Carbon Solution Exchange (TCX) in collaboration with the Taiwan Stock Exchange (TWSE). Win’s keynote\, “The Role of Registries in the Evolution of Article 6 Carbon Markets\,” will explore key considerations for Article 6 implementation\, including tracking\, issuance\, and market infrastructure\, with the topic picked up for a related panel discussion with global carbon market and climate finance leaders.
URL:https://verra.org/events/tcx-global-forum/
LOCATION:Taipei Nangang Exhibition Center\, Taipei\, Taiwan
CATEGORIES:In-Person
ATTACH;FMTTYPE=image/jpeg:https://verra.org/wp-content/uploads/2026/01/lisanto-deCvIgBnPwo-unsplash-scaled.jpg
END:VEVENT
END:VCALENDAR